BEGIN:VCALENDAR
VERSION:2.0
PRODID:-//eventon.com NONSGML v1.0//EN
CALSCALE:GREGORIAN
METHOD:PUBLISH
BEGIN:VEVENT
UID:69e52bbda6595
DTSTAMP:20260419T192341Z
DTSTART:20250522
DTEND:20250523
LOCATION:
SUMMARY:7. Berliner System & Körper-Kongress der GST-Berlin
DESCRIPTION:25 Jahre GST Berlin nehmen wir zum Anlass für unseren 7. »Sys
 tem & Körper« Kongress! In einer »Welt als unsicherer Ort«\,  einer Zei
 t der Verluste vertrauter Gewissheiten und neuartiger individueller sowie g
 lobaler Herausforderungen brauchen wir Haltungen und Kompetenzen\,  die uns
  handlungsfähig machen. Was gibt uns und anderen heute Halt und[..]\nhttps
 ://www.dgft.de/en/events/7-berliner-system-koerper-kongress-der-gst-berlin/
URL:https://www.dgft.de/en/events/7-berliner-system-koerper-kongress-der-gst-berlin/
END:VEVENT
END:VCALENDAR